BEGIN:VCALENDAR
VERSION:2.0
PRODID:-//Glorious Church - ECPv6.9.0//NONSGML v1.0//EN
CALSCALE:GREGORIAN
METHOD:PUBLISH
X-ORIGINAL-URL:https://www.gloriouschurchusa.com
X-WR-CALDESC:Events for Glorious Church
REFRESH-INTERVAL;VALUE=DURATION:PT1H
X-Robots-Tag:noindex
X-PUBLISHED-TTL:PT1H
BEGIN:VTIMEZONE
TZID:UTC
BEGIN:STANDARD
TZOFFSETFROM:+0000
TZOFFSETTO:+0000
TZNAME:UTC
DTSTART:20240101T000000
END:STANDARD
END:VTIMEZONE
BEGIN:VEVENT
DTSTART;TZID=UTC:20240614T130000
DTEND;TZID=UTC:20240615T170000
DTSTAMP:20260423T231816
CREATED:20240312T152522Z
LAST-MODIFIED:20240312T152522Z
UID:323-1718370000-1718470800@www.gloriouschurchusa.com
SUMMARY:Glorious Summit 2024
DESCRIPTION:
URL:https://www.gloriouschurchusa.com/calendar/glorious-summit-2024/
LOCATION:Glorious Church\, 5841 Kalamazoo Ave SE\, Grand Rapids\, MI\, United States
END:VEVENT
END:VCALENDAR